BEGIN:VCALENDAR
VERSION:2.0
PRODID:-//Friends Club//Events//CZ
CALSCALE:GREGORIAN
METHOD:PUBLISH
BEGIN:VEVENT
UID:event-37-20260425220000@www.friendsclub.cz
DTSTAMP:20260425T141913Z
DTSTART:20260425T200000Z
DTEND:20260426T040000Z
SUMMARY:Oldies Party 
DESCRIPTION:🎉 Připrav se na noc plnou největších DISCO hitů 70. let. Nahoď zvonáče\, flitry\, make up jako disko koule a doraz na náš vymazlený discopříběh.💃🕺 🎶 Hity 70s\, 80s\, 90s a začátku milénia\, ale hlavně DISCO 🍸 Skvělé drinky\, supiš atmosféra a party\, jak má být Nahoď svoje retro kousky\, nalaď se na vlnu nostalgie a přijď si užít noc\, kterou jen tak nezapomeneš! 🔥\n\n/program/2026-04-25-oldies-party
URL:/program/2026-04-25-oldies-party
END:VEVENT
END:VCALENDAR
