BEGIN:VCALENDAR
VERSION:2.0
PRODID:-//Friends Club//Events//CZ
CALSCALE:GREGORIAN
METHOD:PUBLISH
BEGIN:VEVENT
UID:event-43-20260501220000@www.friendsclub.cz
DTSTAMP:20260425T154630Z
DTSTART:20260501T200000Z
DTEND:20260502T040000Z
SUMMARY:Kiss Me\, It’s May 🌸💋
DESCRIPTION:Kiss Me\, It’s May 🌸💋 May is the time for love… and you'll definitely feel it at Friends Club. Come celebrate a night full of flirtation\, energy\, and uninhibited kisses. Get ready for a packed DJ set\, special themed drinks\, and an atmosphere where boundaries blur and anything goes. Whether you come to hunt or be hunted\, this night will be all about the chemistry between people. 💋 Kiss friendly vibes 🌸 Spring energy all night 🔥 Hot beats & drag show A welcome kiss? Maybe. The rest is up to you.\n\n/en/events/2026-05-01-kiss-me-it-s-may
URL:/en/events/2026-05-01-kiss-me-it-s-may
END:VEVENT
END:VCALENDAR
